BEGIN:VCALENDAR
VERSION:2.0
PRODID:-//PiCSA - ECPv6.2.8.1//NONSGML v1.0//EN
CALSCALE:GREGORIAN
METHOD:PUBLISH
X-ORIGINAL-URL:https://picsa.org.au
X-WR-CALDESC:Events for PiCSA
REFRESH-INTERVAL;VALUE=DURATION:PT1H
X-Robots-Tag:noindex
X-PUBLISHED-TTL:PT1H
BEGIN:VTIMEZONE
TZID:Australia/Sydney
BEGIN:STANDARD
TZOFFSETFROM:+1100
TZOFFSETTO:+1000
TZNAME:AEST
DTSTART:20260404T160000
END:STANDARD
BEGIN:DAYLIGHT
TZOFFSETFROM:+1000
TZOFFSETTO:+1100
TZNAME:AEDT
DTSTART:20261003T160000
END:DAYLIGHT
END:VTIMEZONE
BEGIN:VEVENT
DTSTART;TZID=Australia/Sydney:20261019T080000
DTEND;TZID=Australia/Sydney:20261021T170000
DTSTAMP:20260420T012323
CREATED:20260419T110213Z
LAST-MODIFIED:20260419T110213Z
UID:6905-1792396800-1792602000@picsa.org.au
SUMMARY:Echo Australia 2026
DESCRIPTION:We are delighted to welcome you to Echo Australia 2026\, bringing together the echocardiography community from across Australia and New Zealand. \nEcho Australia has always been a key meeting point for those working in cardiovascular ultrasound\, and this year we are building on that by broadening the conversation. Alongside our core echo community\, we are excited to further involve our colleagues in ICU\, Anaesthesia\, and Adult Congenital Heart Disease – reflecting how echocardiography is practiced across disciplines every day. \n\n\n\n\nCLICK TO REGISTER
URL:https://picsa.org.au/event/echo-australia-2026/
LOCATION:The Fullerton Hotel\, 1 Martin Placce\, Sydney\, NSW\, Australia
ATTACH;FMTTYPE=image/png:https://picsa.org.au/wp-content/uploads/2026/04/Echo-Aust-2026-colour.png
END:VEVENT
BEGIN:VEVENT
DTSTART;TZID=Australia/Sydney:20261114T080000
DTEND;TZID=Australia/Sydney:20261116T170000
DTSTAMP:20260420T012323
CREATED:20260419T110827Z
LAST-MODIFIED:20260419T110827Z
UID:6909-1794643200-1794848400@picsa.org.au
SUMMARY:ASUM 2026
DESCRIPTION:Join us for ASUM26 in Perth\, Boorloo\, Western Australia\n\n\nOn behalf of the Australasian Society for Ultrasound in Medicine (ASUM)\, we are delighted to invite you to join us in Perth\, Boorloo for ASUM26. \nSet against the stunning backdrop of Western Australia\, this year’s theme Challenge\, Adapt\, Evolve reflects the commitment to challenging current thinking\, adapting to the changing healthcare landscape\, and advancing the evolution of ultrasound in medicine across our region and into the Asia-Pacific. \n\n\n\n\n\nCLICK TO REGISTER
URL:https://picsa.org.au/event/asum-2026/
LOCATION:Perth Convention and Exhibition Centre\, 21 Mounts Bay Road\, Perth\, WA\, Australia
ATTACH;FMTTYPE=image/png:https://picsa.org.au/wp-content/uploads/2026/04/ASUM-2026-Perth.png
END:VEVENT
END:VCALENDAR