BEGIN:VCALENDAR
VERSION:2.0
PRODID:-//PiCSA - ECPv6.2.8.1//NONSGML v1.0//EN
CALSCALE:GREGORIAN
METHOD:PUBLISH
X-WR-CALNAME:PiCSA
X-ORIGINAL-URL:https://picsa.org.au
X-WR-CALDESC:Events for PiCSA
REFRESH-INTERVAL;VALUE=DURATION:PT1H
X-Robots-Tag:noindex
X-PUBLISHED-TTL:PT1H
BEGIN:VTIMEZONE
TZID:Australia/Sydney
BEGIN:STANDARD
TZOFFSETFROM:+1100
TZOFFSETTO:+1000
TZNAME:AEST
DTSTART:20260404T160000
END:STANDARD
BEGIN:DAYLIGHT
TZOFFSETFROM:+1000
TZOFFSETTO:+1100
TZNAME:AEDT
DTSTART:20261003T160000
END:DAYLIGHT
END:VTIMEZONE
BEGIN:VEVENT
DTSTART;TZID=Australia/Sydney:20260430T190000
DTEND;TZID=Australia/Sydney:20260430T200000
DTSTAMP:20260424T052435
CREATED:20260413T114043Z
LAST-MODIFIED:20260413T114325Z
UID:6863-1777575600-1777579200@picsa.org.au
SUMMARY:PiCSA Education Meeting - Cardiac Devices
DESCRIPTION:Online via ZOOM \n\n\n\n\n\n\n\n\n\n\n\n\n\n\n\n\n\n\n\n\n\n\n\n\n\n\n\n\n\n\n\n\n\n\n\n\n\n\nJoin our upcoming PiCSA education meeting featuring presentations from Dr Vimal Patel and Juliet Young on key topics in cardiac devices. \n\n\n\nPiCSA education sessions are free for PiCSA Members. Non-members can purchase a ticket for $20 or join PiCSA at www.picsa.org.au/join\n\n\n\n\n\n\n\n\n\n\n\n\n\n  \n\n\n\n7.00pm AEST (QLD\, NSW\, ACT\, VIC\, TAS)\n6.30pm ACST (NT\, SA)\n\n\n5.00pm AWST (WA)\n\n\n\n\nCLICK TO REGISTER
URL:https://picsa.org.au/event/picsa-education-meeting-cardiac-devices-2/
LOCATION:Online Via ZOOM
ATTACH;FMTTYPE=image/png:https://picsa.org.au/wp-content/uploads/2026/04/PiCSA-Edu-Meeting-30-Apr-2026-Banner.png
ORGANIZER;CN="PiCSA":MAILTO:membership@picsa.org.au
END:VEVENT
END:VCALENDAR