BEGIN:VCALENDAR
VERSION:2.0
PRODID:-//PiCSA - ECPv6.2.8.1//NONSGML v1.0//EN
CALSCALE:GREGORIAN
METHOD:PUBLISH
X-WR-CALNAME:PiCSA
X-ORIGINAL-URL:https://picsa.org.au
X-WR-CALDESC:Events for PiCSA
REFRESH-INTERVAL;VALUE=DURATION:PT1H
X-Robots-Tag:noindex
X-PUBLISHED-TTL:PT1H
BEGIN:VTIMEZONE
TZID:Australia/Sydney
BEGIN:STANDARD
TZOFFSETFROM:+1100
TZOFFSETTO:+1000
TZNAME:AEST
DTSTART:20260404T160000
END:STANDARD
BEGIN:DAYLIGHT
TZOFFSETFROM:+1000
TZOFFSETTO:+1100
TZNAME:AEDT
DTSTART:20261003T160000
END:DAYLIGHT
END:VTIMEZONE
BEGIN:VEVENT
DTSTART;TZID=Australia/Sydney:20260421T190000
DTEND;TZID=Australia/Sydney:20260421T200000
DTSTAMP:20260421T015654
CREATED:20260419T103114Z
LAST-MODIFIED:20260419T103237Z
UID:6888-1776798000-1776801600@picsa.org.au
SUMMARY:ESANZ Launch Webinar
DESCRIPTION:Launch Webinar\n\n\nCome learn about ESANZ\, our foundation\, our goals and our vision for echo in ANZ.\n\n\nThen enjoy the CPD activity of having Australian greats Bonita Anderson\, Greg Scalia\, Vinesh Appadurai and Ruth Ramm interview international experts Dr Jae Oh\, Dr Steve Little\, Dr James Thomas and Madeline Jankowski regarding their recent American Society of Echo Guidelines and their implications and relevance to the ANZ Echo landscape \n\n\n\n\n\n\nCLICK TO REGISTER
URL:https://picsa.org.au/event/6888/
LOCATION:Online
ATTACH;FMTTYPE=image/png:https://picsa.org.au/wp-content/uploads/2026/04/ESANZ-Launch-Meeting.png
END:VEVENT
END:VCALENDAR