BEGIN:VCALENDAR
VERSION:2.0
PRODID:-//PiCSA - ECPv6.2.8.1//NONSGML v1.0//EN
CALSCALE:GREGORIAN
METHOD:PUBLISH
X-WR-CALNAME:PiCSA
X-ORIGINAL-URL:https://picsa.org.au
X-WR-CALDESC:Events for PiCSA
REFRESH-INTERVAL;VALUE=DURATION:PT1H
X-Robots-Tag:noindex
X-PUBLISHED-TTL:PT1H
BEGIN:VTIMEZONE
TZID:Australia/Sydney
BEGIN:STANDARD
TZOFFSETFROM:+1100
TZOFFSETTO:+1000
TZNAME:AEST
DTSTART:20260404T160000
END:STANDARD
BEGIN:DAYLIGHT
TZOFFSETFROM:+1000
TZOFFSETTO:+1100
TZNAME:AEDT
DTSTART:20261003T160000
END:DAYLIGHT
END:VTIMEZONE
BEGIN:VEVENT
DTSTART;TZID=Australia/Sydney:20260314T053000
DTEND;TZID=Australia/Sydney:20260314T140000
DTSTAMP:20260424T065942
CREATED:20260413T122409Z
LAST-MODIFIED:20260413T122409Z
UID:6868-1773466200-1773496800@picsa.org.au
SUMMARY:Contrast Echo Summit
DESCRIPTION:Expert Faculty: A unique program presented by an international faculty of experts with a strong emphasis on practical application.\nGuideline-Focused: Care has been taken to incorporate ASE/EACVI guidelines into talks to demonstrate how and why they should be applied in your daily practice.\nInteractive Format:  Sessions are pre-recorded and then streamed to ensure the highest quality. Attendees on the day of the live stream will have access to a live chat room to facilitate discussion \n\n  \n\nCLICK TO REGISTER
URL:https://picsa.org.au/event/contrast-echo-summit-2/
ATTACH;FMTTYPE=image/png:https://picsa.org.au/wp-content/uploads/2026/04/Contrast-Echo-Summit-2026-banner.png
END:VEVENT
END:VCALENDAR