BEGIN:VCALENDAR
VERSION:2.0
PRODID:-//PiCSA - ECPv6.2.8.1//NONSGML v1.0//EN
CALSCALE:GREGORIAN
METHOD:PUBLISH
X-WR-CALNAME:PiCSA
X-ORIGINAL-URL:https://picsa.org.au
X-WR-CALDESC:Events for PiCSA
REFRESH-INTERVAL;VALUE=DURATION:PT1H
X-Robots-Tag:noindex
X-PUBLISHED-TTL:PT1H
BEGIN:VTIMEZONE
TZID:Australia/Sydney
BEGIN:STANDARD
TZOFFSETFROM:+1100
TZOFFSETTO:+1000
TZNAME:AEST
DTSTART:20260404T160000
END:STANDARD
BEGIN:DAYLIGHT
TZOFFSETFROM:+1000
TZOFFSETTO:+1100
TZNAME:AEDT
DTSTART:20261003T160000
END:DAYLIGHT
END:VTIMEZONE
BEGIN:VEVENT
DTSTART;TZID=Australia/Sydney:20260128T190000
DTEND;TZID=Australia/Sydney:20260128T203000
DTSTAMP:20260420T200800
CREATED:20260113T123034Z
LAST-MODIFIED:20260113T124808Z
UID:6725-1769626800-1769632200@picsa.org.au
SUMMARY:PiCSA Education Meeting: Exercise Stress Testing in Practice
DESCRIPTION:Online via ZOOM  \n\n\n\n\n\n\n\n\n\n\n\n\n\n\n\nExercise Stress Testing in Practice: Technique\, Interpretation\, and Clinical Insight brings together expert cardiac physiologists and exercise physiologists to explore ECG optimisation\, arrhythmia and ST-segment interpretation\, and safe clinical decision-making during exercise stress testing\, with practical insights from real-world practice. \n\n\n\n\n\n\n\n\nPiCSA education sessions are free for PiCSA Members. Non-members can purchase a ticket for $15 or join PiCSA at www.picsa.org.au/join\n\n\n\n\n\n\n\n\n\n\n\n\n\n\n\n  \n\n\n\n7:00pm AEDT (NSW\, ACT\, VIC\, TAS)\n6.30pm ACDT (SA)\n\n\n6.00pm AEST (QLD)\n5.30pm ACST (NT)\n\n\n4.00pm AWST (WA)\n9:00pm NZDT\n\n\n\n  \nCLICK TO REGISTER
URL:https://picsa.org.au/event/picsa-education-meeting-exercise-stress-testing-in-practice/
LOCATION:Online Via ZOOM
ATTACH;FMTTYPE=image/png:https://picsa.org.au/wp-content/uploads/2026/01/PiCSA-Edu-Meeting-28-Jan-2026-Banner.png
ORGANIZER;CN="PiCSA":MAILTO:membership@picsa.org.au
END:VEVENT
END:VCALENDAR